BEGIN:VCALENDAR
VERSION:2.0
METHOD:PUBLISH
PRODID:-//Telerik Inc.//Sitefinity CMS 15.3//EN
BEGIN:VTIMEZONE
TZID:UTC
BEGIN:STANDARD
DTSTART;VALUE=DATE:20250101
TZNAME:UTC
TZOFFSETFROM:+0000
TZOFFSETTO:+0000
END:STANDARD
END:VTIMEZONE
BEGIN:VEVENT
DESCRIPTION:食品安全不熟悉的食品製造公司或尚未準備好接受 SQF 認證的食品製造公司將通過探索七個基礎計劃的組成部分，以及其食物安全或 H
 ACCP 計劃構成 SQF 基礎知識。SQF 基礎知識經常用作 SQF 認證的步道，基於 GFSI 全球市場計劃，但任何想要在建立強大的食品安全計劃
 中邁出第一步的網站都可以使用。\n觀眾\n食品安全負責人員；備份食品安全負責人；任何想了解 SQF 基礎知識的人。\n持續時間\n1-1/2 天，課
 堂（在虛擬教室或混合格式進行時可能會有所不同）。\n送貨\n這個由講師指導的課程是面對面提供：在課堂、虛擬教室或兩者的組合中進行。\n活動導向交付\
 n與會者在小朋友組中工作，由他們的講師指導。
DTEND:20260423T160000Z
DTSTAMP:20260424T174754Z
DTSTART:20260422T083000Z
LOCATION:
SEQUENCE:0
SUMMARY:實施 SQF 基礎知識
UID:RFCALITEM639126352747333038
X-ALT-DESC;FMTTYPE=text/html:<p>食品安全不熟悉的食品製造公司或尚未準備好接受 SQF 認證的食品製造公司將通過探索七個
 基礎計劃的組成部分，以及其食物安全或 HACCP 計劃構成 SQF 基礎知識。SQF 基礎知識經常用作 SQF 認證的步道，基於 GFSI 全球市場
 計劃，但任何想要在建立強大的食品安全計劃中邁出第一步的網站都可以使用。</p>\n<h3>觀眾</h3>\n<p>食品安全負責人員；備份食品安全負責
 人；任何想了解 SQF 基礎知識的人。</p>\n<h3>持續時間</h3>\n<p>1-1/2 天，課堂（在虛擬教室或混合格式進行時可能會有所不同
 ）。</p>\n<h3>送貨</h3>\n<p>這個由講師指導的課程是面對面提供：在課堂、虛擬教室或兩者的組合中進行。</p>\n<h3>活動導向交
 付</h3>\n<p>與會者在小朋友組中工作，由他們的講師指導。</p>
END:VEVENT
END:VCALENDAR
