BEGIN:VCALENDAR
VERSION:2.0
METHOD:PUBLISH
PRODID:-//Telerik Inc.//Sitefinity CMS 15.3//EN
BEGIN:VTIMEZONE
TZID:UTC
BEGIN:STANDARD
DTSTART;VALUE=DATE:20250101
TZNAME:UTC
TZOFFSETFROM:+0000
TZOFFSETTO:+0000
END:STANDARD
END:VTIMEZONE
BEGIN:VEVENT
DESCRIPTION:不熟悉食品安全或尚未做好SQF认证准备的食品制造公司将在指导下探索构成SQF基础知识的七个基础计划的组成部分，这些计划及其食品
 安全或HACCP计划构成了SQF基础知识。SQF 基础知识通常被用作获得 SQF 认证的垫脚石，它以 GFSI 全球市场计划为基础，但任何寻求迈出强
 大食品安全计划第一步的网站都可以使用。\n观众\n食品安全负责人；后备食品安全负责人；任何想学习 SQF 基础知识的人。\n持续时间\n1-1/2 
 天，课堂（在虚拟教室或混合教室中举行时可能会有所不同）。\n配送\n这门由讲师指导的课程是面对面授的：可以在课堂上进行，也可以在虚拟教室中进行，也可
 以两者结合。\n以活动为导向的交付\n学员在讲师的指导下分成小组。
DTEND:20260423T160000Z
DTSTAMP:20260424T175155Z
DTSTART:20260422T083000Z
LOCATION:
SEQUENCE:0
SUMMARY:实施 SQF 基础知识
UID:RFCALITEM639126355151624330
X-ALT-DESC;FMTTYPE=text/html:<p>不熟悉食品安全或尚未做好SQF认证准备的食品制造公司将在指导下探索构成SQF基础知识的
 七个基础计划的组成部分，这些计划及其食品安全或HACCP计划构成了SQF基础知识。SQF 基础知识通常被用作获得 SQF 认证的垫脚石，它以 GFS
 I 全球市场计划为基础，但任何寻求迈出强大食品安全计划第一步的网站都可以使用</p>。\n<h3>观众</h3>\n<p>食品安全负责人；后备食品安
 全负责人；任何想学习 SQF 基础知识的人。</p>\n<h3>持续时间</h3>\n<p>1-1/2 天，课堂（在虚拟教室或混合教室中举行时可能会
 有所不同）。</p>\n<h3>配送</h3>\n<p>这门由讲师指导的课程是面对面授的：可以在课堂上进行，也可以在虚拟教室中进行，也可以两者结合。
 </p>\n<h3>以活动为导向的交付</h3>\n<p>学员在讲师的指导下分成小组。</p>
END:VEVENT
END:VCALENDAR
