BEGIN:VCALENDAR
VERSION:2.0
METHOD:PUBLISH
PRODID:-//Telerik Inc.//Sitefinity CMS 15.3//EN
BEGIN:VTIMEZONE
TZID:UTC
BEGIN:STANDARD
DTSTART;VALUE=DATE:20250101
TZNAME:UTC
TZOFFSETFROM:+0000
TZOFFSETTO:+0000
END:STANDARD
END:VTIMEZONE
BEGIN:VEVENT
DESCRIPTION:As empresas de fabricação de alimentos iniciantes em segurança 
 alimentar ou que ainda não estão prontas para a certificação SQF serão gui
 adas por uma exploração dos componentes de sete programas fundamentais que
 \, junto com seu plano de segurança alimentar ou HACCP\, compõem os Fundam
 entos do SQF. Frequentemente usado como um trampolim para a certificação S
 QF\, o SQF Fundamentals é baseado no Programa de Mercados Globais da GFSI\
 , mas pode ser usado por qualquer site que queira dar o primeiro passo na 
 construção de um programa robusto de segurança alimentar.\nAudiência\nResp
 onsável pela segurança alimentar\; responsável pela segurança alimentar de
  apoio\; qualquer pessoa que queira aprender sobre os fundamentos do SQF.\
 nDuração\n1-1/2 dias\, em sala de aula (pode variar quando realizado na sa
 la de aula virtual ou em formato misto).\nEntrega\nEste curso ministrado p
 or instrutor é oferecido presencialmente: na sala de aula\, na sala de aul
 a virtual ou em uma combinação dos dois.\nEntrega orientada por atividades
 \nOs participantes trabalham em pequenos grupos de colegas guiados pelo in
 strutor.
DTEND:20260423T160000Z
DTSTAMP:20260424T175033Z
DTSTART:20260422T083000Z
LOCATION:
SEQUENCE:0
SUMMARY:Implementando os fundamentos do SQF
UID:RFCALITEM639126354332650700
X-ALT-DESC;FMTTYPE=text/html:<p>As empresas de fabricação de alimentos inic
 iantes em segurança alimentar ou que ainda não estão prontas para a certif
 icação SQF serão guiadas por uma exploração dos componentes de sete progra
 mas fundamentais que\, junto com seu plano de segurança alimentar ou HACCP
 \, compõem os Fundamentos do SQF. Frequentemente usado como um trampolim p
 ara a certificação SQF\, o SQF Fundamentals é baseado no Programa de Merca
 dos Globais da GFSI\, mas pode ser usado por qualquer site que queira dar 
 o primeiro passo na construção de um</p> programa robusto de segurança ali
 mentar.\n<h3>Audiência</h3>\n<p>Responsável pela segurança alimentar\; res
 ponsável pela segurança alimentar de apoio\; qualquer pessoa que queira ap
 render sobre os fundamentos do SQF.</p>\n<h3>Duração</h3>\n<p>1-1/2 dias\,
  em sala de aula (pode variar quando realizado na sala de aula virtual ou 
 em formato misto).</p>\n<h3>Entrega</h3>\n<p>Este curso ministrado por ins
 trutor é oferecido presencialmente: na sala de aula\, na sala de aula virt
 ual ou em uma combinação dos dois.</p>\n<h3>Entrega orientada por atividad
 es</h3>\n<p>Os participantes trabalham em pequenos grupos de colegas guiad
 os pelo instrutor.</p>
END:VEVENT
END:VCALENDAR
