BEGIN:VCALENDAR
VERSION:2.0
METHOD:PUBLISH
PRODID:-//Telerik Inc.//Sitefinity CMS 15.3//EN
BEGIN:VTIMEZONE
TZID:UTC
BEGIN:STANDARD
DTSTART;VALUE=DATE:20250101
TZNAME:UTC
TZOFFSETFROM:+0000
TZOFFSETTO:+0000
END:STANDARD
END:VTIMEZONE
BEGIN:VEVENT
DESCRIPTION:식품 안전을 처음 접하거나 SQF 인증을 받을 준비가 되지 않은 식품 제조 회사를 대상으로 식품 안전 또는 HAC
 CP 계획과 함께 SQF Fundtals를 구성하는 7가지 기본 프로그램의 구성 요소를 살펴봅니다.SQF Fundamentals는 종
 종 SQF 인증의 디딤돌로 사용되며 GFSI 글로벌 마켓 프로그램을 기반으로 하지만 강력한 식품 안전 프로그램 구축을 위한 첫 단계로
  나아가고자 하는 모든 현장에서 사용할 수 있습니다.\n대상\n식품 안전 담당자\, 백업 식품 안전 담당자\, SQF 기초에 대해 배
 우고 싶은 모든 사람.\n기간\n1-1/2 일\, 강의실 (가상 강의실 또는 혼합 형식으로 진행되는 경우 다를 수 있음).\n배송\n
 이 강사 주도 과정은 강의실\, 가상 교실 또는 이 두 가지를 조합하여 대면 방식으로 제공됩니다.\n활동 주도 교육\n참석자는 강사가
  안내하는 소규모 동료 그룹에서 작업합니다.
DTEND:20260423T160000Z
DTSTAMP:20260424T175917Z
DTSTART:20260422T083000Z
LOCATION:
SEQUENCE:0
SUMMARY:SQF 펀더멘털 구현
UID:RFCALITEM639126359571555537
X-ALT-DESC;FMTTYPE=text/html:<p>식품 안전을 처음 접하거나 SQF 인증을 받을 준비가 되지 않은 식품 제조 회
 사를 대상으로 식품 안전 또는 HACCP 계획과 함께 SQF Fundtals를 구성하는 7가지 기본 프로그램의 구성 요소를 살펴봅니다
 .SQF Fundamentals는 종종 SQF 인증의 디딤돌로 사용되며 GFSI 글로벌 마켓 프로그램을 기반으로 하지만 강력한 식품 
 안전 프로그램 구축을 위한 첫 단계로 나아가고자 하는 모든 현장에서 사용할 수 있습니다.</p>\n<h3>대상</h3>\n<p>식품 
 안전 담당자\, 백업 식품 안전 담당자\, SQF 기초에 대해 배우고 싶은 모든 사람.</p>\n<h3>기간</h3>\n<p>1-1/
 2 일\, 강의실 (가상 강의실 또는 혼합 형식으로 진행되는 경우 다를 수 있음).</p>\n<h3>배송</h3>\n<p>이 강사 주
 도 과정은 강의실\, 가상 교실 또는 이 두 가지를 조합하여 대면 방식으로 제공됩니다.</p>\n<h3>활동 주도 교육</h3>\n<
 p>참석자는 강사가 안내하는 소규모 동료 그룹에서 작업합니다.</p>
END:VEVENT
END:VCALENDAR
