BEGIN:VCALENDAR
VERSION:2.0
METHOD:PUBLISH
PRODID:-//Telerik Inc.//Sitefinity CMS 15.3//EN
BEGIN:VTIMEZONE
TZID:UTC
BEGIN:STANDARD
DTSTART;VALUE=DATE:20250101
TZNAME:UTC
TZOFFSETFROM:+0000
TZOFFSETTO:+0000
END:STANDARD
END:VTIMEZONE
BEGIN:VEVENT
DESCRIPTION:食品衛生に不慣れな食品製造会社や、SQF認証の準備がまだ整っていない食品製造企業を対象に、食品安全またはHACCP計画とともに
 SQFファンダメンタルズを構成する7つの基本プログラムの構成要素について解説します。SQF認証の足がかりとしてよく使われるSQF Fundament
 alsは、GFSIグローバルマーケットプログラムに基づいていますが、強固な食品安全プログラムの構築への第一歩を踏み出したいと考えているすべてのサイト
 で使用できます。\nオーディエンス\n食品安全担当者、バックアップ食品安全担当者、SQFファンダメンタルズについて学びたい人\n所要時間\n1-1/
 2 日、クラスルーム（バーチャルクラスルームまたは混合形式の場合は異なる場合があります）。\n配達\nこのインストラクター主導のコースは、クラスルー
 ム、バーチャルクラスルーム、またはその両方で、対面形式で提供されます。\nアクティビティ主導型デリバリー\n参加者は講師の指導の下、少人数のグループ
 に分かれて作業します。
DTEND:20260423T160000Z
DTSTAMP:20260424T175433Z
DTSTART:20260422T083000Z
LOCATION:
SEQUENCE:0
SUMMARY:SQFファンダメンタルズの実装
UID:RFCALITEM639126356735270049
X-ALT-DESC;FMTTYPE=text/html:<p>食品衛生に不慣れな食品製造会社や、SQF認証の準備がまだ整っていない食品製造企業を対象
 に、食品安全またはHACCP計画とともにSQFファンダメンタルズを構成する7つの基本プログラムの構成要素について解説します。SQF認証の足がかりとし
 てよく使われるSQF Fundamentalsは、GFSIグローバルマーケットプログラムに基づいていますが、強固な食品安全プログラムの構築への第一歩
 を踏み出したいと考えているすべてのサイトで使用できます。</p>\n<h3>オーディエンス</h3>\n<p>食品安全担当者、バックアップ食品安全担
 当者、SQFファンダメンタルズについて学びたい人</p>\n<h3>所要時間</h3>\n<p>1-1/2 日、クラスルーム（バーチャルクラスルーム
 または混合形式の場合は異なる場合があります）。</p>\n<h3>配達</h3>\n<p>このインストラクター主導のコースは、クラスルーム、バーチャ
 ルクラスルーム、またはその両方で、対面形式で提供されます。</p>\n<h3>アクティビティ主導型デリバリー</h3>\n<p>参加者は講師の指導の
 下、少人数のグループに分かれて作業します。</p>
END:VEVENT
END:VCALENDAR
