BEGIN:VCALENDAR
VERSION:2.0
METHOD:PUBLISH
PRODID:-//Telerik Inc.//Sitefinity CMS 15.3//EN
BEGIN:VTIMEZONE
TZID:UTC
BEGIN:STANDARD
DTSTART;VALUE=DATE:20250101
TZNAME:UTC
TZOFFSETFROM:+0000
TZOFFSETTO:+0000
END:STANDARD
END:VTIMEZONE
BEGIN:VEVENT
DESCRIPTION:Les entreprises de fabrication d'aliments qui débutent dans le 
 domaine de la salubrité des aliments ou celles qui ne sont pas tout à fait
  prêtes pour la certification SQF seront guidées par une exploration des c
 omposantes de sept programmes fondamentaux qui\, avec leur plan de salubri
 té des aliments ou HACCP\, constituent SQF Fundamentals. Souvent utilisé c
 omme tremplin vers la certification SQF\, SQF Fundamentals est basé sur le
  programme GFSI Global Markets\, mais peut être utilisé par n'importe quel
  site cherchant à faire un premier pas vers la mise en place d'un programm
 e solide de salubrité des aliments.\nAuditoire\nResponsable de la salubrit
 é des aliments \; responsable de la sécurité alimentaire auxiliaire \; tou
 te personne souhaitant en savoir plus sur les principes fondamentaux de SQ
 F.\nDurée\n1 jour et demi\, salle de classe (peut varier en classe virtuel
 le ou en format mixte).\nLivraison\nCe cours animé par un instructeur est 
 offert en personne : soit en classe\, en classe virtuelle\, soit dans une 
 combinaison des deux.\nPrestation axée sur les activités\nLes participants
  travaillent en petits groupes de pairs guidés par leur instructeur.
DTEND:20260423T160000Z
DTSTAMP:20260424T175910Z
DTSTART:20260422T083000Z
LOCATION:
SEQUENCE:0
SUMMARY:Mise en œuvre des principes de base de SQF
UID:RFCALITEM639126359507964435
X-ALT-DESC;FMTTYPE=text/html:<p>Les entreprises de fabrication d'aliments q
 ui débutent dans le domaine de la salubrité des aliments ou celles qui ne 
 sont pas tout à fait prêtes pour la certification SQF seront guidées par u
 ne exploration des composantes de sept programmes fondamentaux qui\, avec 
 leur plan de salubrité des aliments ou HACCP\, constituent SQF Fundamental
 s. Souvent utilisé comme tremplin vers la certification SQF\, SQF Fundamen
 tals est basé sur le programme GFSI Global Markets\, mais peut être utilis
 é par n'importe quel site cherchant à faire un premier pas vers la mise en
  place d'un programme</p> solide de salubrité des aliments.\n<h3>Auditoire
 </h3>\n<p>Responsable de la salubrité des aliments \; responsable de la sé
 curité alimentaire auxiliaire \; toute personne souhaitant en savoir plus 
 sur les principes fondamentaux de SQF.</p>\n<h3>Durée</h3>\n<p>1 jour et d
 emi\, salle de classe (peut varier en classe virtuelle ou en format mixte)
 .</p>\n<h3>Livraison</h3>\n<p>Ce cours animé par un instructeur est offert
  en personne : soit en classe\, en classe virtuelle\, soit dans une combin
 aison des deux.</p>\n<h3>Prestation axée sur les activités</h3>\n<p>Les pa
 rticipants travaillent en petits groupes de pairs guidés par leur instruct
 eur.</p>
END:VEVENT
END:VCALENDAR
