BEGIN:VCALENDAR
VERSION:2.0
METHOD:PUBLISH
PRODID:-//Telerik Inc.//Sitefinity CMS 15.3//EN
BEGIN:VTIMEZONE
TZID:UTC
BEGIN:STANDARD
DTSTART;VALUE=DATE:20250101
TZNAME:UTC
TZOFFSETFROM:+0000
TZOFFSETTO:+0000
END:STANDARD
END:VTIMEZONE
BEGIN:VEVENT
DESCRIPTION:Las empresas manufactureras de alimentos nuevas en la inocuidad
  alimentaria o aquellas que no están del todo listas para la certificación
  SQF serán guiadas a través de una exploración de los componentes de siete
  programas fundacionales que\, junto con su plan de seguridad alimentaria 
 o HACCP\, conforman SQF Fundamentals. A menudo utilizado como un escalón p
 ara la certificación SQF\, SQF Fundamentals se basa en el Programa de Merc
 ados Globales de GFSI\, pero puede ser utilizado por cualquier sitio que b
 usque dar un primer paso en la construcción de un sólido programa de segur
 idad alimentaria.\nAudiencia\nPersona a cargo de seguridad alimentaria\; r
 espaldo de seguridad alimentaria persona a cargo\; cualquier persona que q
 uiera aprender sobre los Fundamentos de SQF.\nDuración\n1-1/2 días\, aula 
 (puede variar cuando se lleva a cabo en el aula virtual o en formato mixto
 ).\nEntrega\nEste curso dirigido por un instructor se ofrece presencialmen
 te: ya sea en el aula\, el aula virtual\, o una combinación de ambos.\nEnt
 rega basada en actividades\nLos asistentes trabajan en pequeños grupos de 
 pares guiados por su instructor.
DTEND:20260423T160000Z
DTSTAMP:20260424T175927Z
DTSTART:20260422T083000Z
LOCATION:
SEQUENCE:0
SUMMARY:Implementación de los fundamentos de SQF
UID:RFCALITEM639126359676399747
X-ALT-DESC;FMTTYPE=text/html:<p>Las empresas manufactureras de alimentos nu
 evas en la inocuidad alimentaria o aquellas que no están del todo listas p
 ara la certificación SQF serán guiadas a través de una exploración de los 
 componentes de siete programas fundacionales que\, junto con su plan de se
 guridad alimentaria o HACCP\, conforman SQF Fundamentals. A menudo utiliza
 do como un escalón para la certificación SQF\, SQF Fundamentals se basa en
  el Programa de Mercados Globales de GFSI\, pero puede ser utilizado por c
 ualquier sitio que busque dar un primer paso en la construcción de un sóli
 do</p> programa de seguridad alimentaria.\n<h3>Audiencia</h3>\n<p>Persona 
 a cargo de seguridad alimentaria\; respaldo de seguridad alimentaria perso
 na a cargo\; cualquier persona que quiera aprender sobre los Fundamentos d
 e SQF.</p>\n<h3>Duración</h3>\n<p>1-1/2 días\, aula (puede variar cuando s
 e lleva a cabo en el aula virtual o en formato mixto).</p>\n<h3>Entrega</h
 3>\n<p>Este curso dirigido por un instructor se ofrece presencialmente: ya
  sea en el aula\, el aula virtual\, o una combinación de ambos.</p>\n<h3>E
 ntrega basada en actividades</h3>\n<p>Los asistentes trabajan en pequeños 
 grupos de pares guiados por su instructor.</p>
END:VEVENT
END:VCALENDAR
